Workbook

Sheet Титульный лист

Sheet Кроссворд
E2: 1
H4: 10
C5: 2
E6: 3 | T6: 1.Лежит кучка поросят,кто не тронет - завизжат.
F7: 4 | M7: 9 | T7: 2.Что за коняшки - на всех тельняшки.
G8: 5 | T8: 3. Длинноух,да не заяц, С копытами, да не лошадь.
E9: 6 | T9: 4. Он полосатый и имеет жёлтые глаза.
C10: 7 | T10: 5. С ветки прыгает на ветку. Ест бананы сладости, к общей нашей радости.
E11: 8 | T11: 6.С бородой родится - никто не дивится.
T12: 7.Зверь я горбатый, но нравлюсь ребятам.
T13: 8. C хвостом, а не зверь, с перьями, а не птица.
T14: 9.Стоит копна посреди двора, спереди вилы,а сзади метла.
T15: 10.Кто мы?
C19: Количество правильных ответов | I19: ='Проверка результатов'!C11 -> 0
C20: Ваша оценка | F20: =IF(I19>8,5,IF(I19>7,4,IF(I19>4,3,2))) -> 2

Sheet Проверка результатов
A1: BEE | B1: =CONCATENATE(Кроссворд!E3,Кроссворд!E4,Кроссворд!E5) | C1: =IF(A1=B1,1,0) -> 0
A2: ZEBRA | B2: =CONCATENATE(Кроссворд!D5,Кроссворд!E5,Кроссворд!F5,Кроссворд!G5,Кроссворд!H5) | C2: =IF(A2=B2,1,0) -> 0
A3: DONKEY | B3: =CONCATENATE(Кроссворд!F6,Кроссворд!G6,Кроссворд!H6,Кроссворд!I6,Кроссворд!J6,Кроссворд!K6) | C3: =IF(A3=B3,1,0) -> 0
A4: TIGER | B4: =CONCATENATE(Кроссворд!G7,Кроссворд!H7,Кроссворд!I7,Кроссворд!J7,Кроссворд!K7) | C4: =IF(A4=B4,1,0) -> 0
A5: MONKEY | B5: =CONCATENATE(Кроссворд!H8,Кроссворд!I8,Кроссворд!J8,Кроссворд!K8,Кроссворд!L8,Кроссворд!M8) | C5: =IF(A5=B5,1,0) -> 0
A6: GOAT | B6: =CONCATENATE(Кроссворд!F9,Кроссворд!G9,Кроссворд!H9,Кроссворд!I9) | C6: =IF(A6=B6,1,0) -> 0
A7: CAMEL | B7: =CONCATENATE(Кроссворд!D10,Кроссворд!E10,Кроссворд!F10,Кроссворд!G10,Кроссворд!H10) | C7: =IF(A7=B7,1,0) -> 0
A8: FISH | B8: =CONCATENATE(Кроссворд!F11,Кроссворд!G11,Кроссворд!H11,Кроссворд!I11) | C8: =IF(A8=B8,1,0) -> 0
A9: YAK | B9: =CONCATENATE(Кроссворд!M8,Кроссворд!M9,Кроссворд!M10) | C9: =IF(A9=B9,1,0) -> 0
A10: ANIMALS | B10: =CONCATENATE(Кроссворд!H5,Кроссворд!H6,Кроссворд!H7,Кроссворд!H8,Кроссворд!H9,Кроссворд!H10,Кроссворд!H11) | C10: =IF(A10=B10,1,0) -> 0
A11: Итого | C11: =SUM(C1:C10) -> 0

Sheet Ответы
C1: 1
C2: B | U2: 1.Летом гуляет, зимой отдыхает.
C3: E | F3: 10 | U3: 2.Что за коняшки - на всех тельняшки.
A4: 2 | B4: Z | C4: E | D4: B | E4: R | F4: A | U4: 3. Длинноух,да не заяц, С копытами, да не лошадь.
C5: 3 | D5: D | E5: O | F5: N | G5: K | H5: E | I5: Y | U5: 4. Он полосатый и имеет жёлтые глаза.
D6: 4 | E6: T | F6: I | G6: G | H6: E | I6: R | K6: 9 | U6: 5. С ветки прыгает на ветку. Ест бананы сладости, к общей нашей радости.
E7: 5 | F7: M | G7: O | H7: N | I7: K | J7: E | K7: Y | U7: 6.С бородой родится - никто не дивится.
C8: 6 | D8: G | E8: O | F8: A | G8: T | K8: A | U8: 7.Зверь я горбатый, но нравлюсь ребятам.
A9: 7 | B9: C | C9: A | D9: M | E9: E | F9: L | K9: K | U9: 8. C хвостом, а не зверь, с перьями, а не птица.
C10: 8 | D10: F | E10: I | F10: S | G10: H | U10: 9.Пухом богата, клюв - лопата, в речку бродит, вперевалочку ходит.
U11: 10.Стоит копна посреди двора, спереди вилы,а сзади метла.

Sheet Лист1
